BEGIN:VCALENDAR
VERSION:2.0
PRODID:-//St Michael's Hospice Charity - ECPv6.15.20//NONSGML v1.0//EN
CALSCALE:GREGORIAN
METHOD:PUBLISH
X-WR-CALNAME:St Michael's Hospice Charity
X-ORIGINAL-URL:https://stmichaelshospicecharity.com
X-WR-CALDESC:Events for St Michael's Hospice Charity
REFRESH-INTERVAL;VALUE=DURATION:PT1H
X-Robots-Tag:noindex
X-PUBLISHED-TTL:PT1H
BEGIN:VTIMEZONE
TZID:UTC
BEGIN:STANDARD
TZOFFSETFROM:+0000
TZOFFSETTO:+0000
TZNAME:UTC
DTSTART:20230101T000000
END:STANDARD
END:VTIMEZONE
BEGIN:VEVENT
DTSTART;TZID=UTC:20241101T100000
DTEND;TZID=UTC:20241101T130000
DTSTAMP:20260420T124220
CREATED:20240822T090144Z
LAST-MODIFIED:20240822T092157Z
UID:14479-1730455200-1730466000@stmichaelshospicecharity.com
SUMMARY:St Michael's Hospice Charity - Boules Tournament - November 2024
DESCRIPTION:📢 Announcement: Boules Tournament for St. Michael’s Hospice Charity! 🏆 \nDetails at a Glance: \n\nDate: November 1st\, 2024\nTime: Tournament starts promptly at 10:00 AM\nEntry: €22 per person\nVenue: Tala Boules Club\n\nEntrance Fee: includes Souvlaki Lunch. \nPairs competition\, open to anyone over the age of 18. The initial competition will be a round robin in mini leagues. The winners of each league will progress into the semi finals. The remaining players will then compete in a straight knockout Plate tournament. A raffle shall take place too. \nAll funds raised at the boules tournament goes to a great cause – St. Michael’s Hospice Charity – We provide financial support and assistance to the Archangel Michael Pasykaf Hospice. We help them to enhance life when it is needed most. \nCome along for a day of FUNdraising and friendly competition!🏆 \nContact Robin: +357 99258479 \nE-mail: Robin Events Manager  events@smhc.email
URL:https://stmichaelshospicecharity.com/event/st-michaels-hospice-charity-boules-tournament-november-2024/
LOCATION:Tala\, Cyprus
CATEGORIES:Sporting Events – Fundraising
ATTACH;FMTTYPE=image/jpeg:https://stmichaelshospicecharity.com/wp-content/uploads/2024/08/Boules-Tournament-2nd-November-2024-St-Michaels-Hospice-Charity-Fundraiser.-Cyprus.jpg
END:VEVENT
END:VCALENDAR