BEGIN:VCALENDAR
VERSION:2.0
PRODID:-//St Michael's Hospice Charity - ECPv6.15.20//NONSGML v1.0//EN
CALSCALE:GREGORIAN
METHOD:PUBLISH
X-WR-CALNAME:St Michael's Hospice Charity
X-ORIGINAL-URL:https://stmichaelshospicecharity.com
X-WR-CALDESC:Events for St Michael's Hospice Charity
REFRESH-INTERVAL;VALUE=DURATION:PT1H
X-Robots-Tag:noindex
X-PUBLISHED-TTL:PT1H
BEGIN:VTIMEZONE
TZID:UTC
BEGIN:STANDARD
TZOFFSETFROM:+0000
TZOFFSETTO:+0000
TZNAME:UTC
DTSTART:20240101T000000
END:STANDARD
END:VTIMEZONE
BEGIN:VEVENT
DTSTART;TZID=UTC:20250404T190000
DTEND;TZID=UTC:20250405T010000
DTSTAMP:20260425T131929
CREATED:20250304T150419Z
LAST-MODIFIED:20250304T150858Z
UID:14650-1743793200-1743814800@stmichaelshospicecharity.com
SUMMARY:St. Michael’s Hospice Charity - Casino Night
DESCRIPTION:📢🎉🎰🎲 St Michael’s Hospice Charity Casino Night  🎲🎰🎉📢 \nDate: 4th April – 7pm to 1am\nEvent: Casino Night – Dinner & Dance with Roulette & Blackjack\nVenue: Leonardo Plaza Cypria Maris\, Paphos\nPrice: €65 per person (includes food & drinks) \nJoin us for an unforgettable evening of glamour and excitement at our Casino Night\, all in support of St Michael’s Hospice Charity. Enjoy a sumptuous dinner and dance the night away to DJ Tom Owen and singer Kim V while trying your luck at roulette and blackjack. \nDon’t miss out on this fantastic opportunity to have fun and support a great cause – Helping the Pasykaf Archangel Michael Hospice to enhance life when it is needed most – Book your tickets now! \nContact: Robin\n📧Email: events@smhc.email\n☎️Phone: 99258479 \n  \n**Sponsors:** Suonal & Polycarpos Philippou \n 
URL:https://stmichaelshospicecharity.com/event/st-michaels-hospice-charity-casino-night/
LOCATION:Leonardo Plaza Cypria Maris\, Poseidonos Ave 10\, Yeroskipou 8204\, Paphos\, 8204\, Cyprus
CATEGORIES:Social Events – Fundraising
ATTACH;FMTTYPE=image/jpeg:https://stmichaelshospicecharity.com/wp-content/uploads/2024/06/St-Michaels-Hospice-Charity-Las-Vegas-Night-March-2024.jpg
END:VEVENT
BEGIN:VEVENT
DTSTART;TZID=UTC:20250426T130000
DTEND;TZID=UTC:20250426T170000
DTSTAMP:20260425T131929
CREATED:20250305T095021Z
LAST-MODIFIED:20250403T204012Z
UID:14657-1745672400-1745686800@stmichaelshospicecharity.com
SUMMARY:St Michael's Hospice Charity - Fashion Show - 2025
DESCRIPTION:📢 Fundraising Event: Fashion Show for St. Michael’s Hospice Charity 👗👠👒 \nSt Michael’s Hospice Charity Fashion Show\nDate: 26th April 2025\nTime: 1pm\nEvent: Fashion Show\nVenue: Peggy’s Secret Garden\, Paphos\nPrice: €20 per person (includes mini afternoon tea and a glass of wine) \nJoin us for a delightful afternoon at Peggy’s Secret Garden\, where fashion meets philanthropy. Enjoy a stunning fashion show while savoring a mini afternoon tea and a glass of wine\, all in support of St Michael’s Hospice Charity. \nContact: Christine Or Robin\nPhone: 96780211 or 99258479\nEmail: events@smhc.email \n  \nCome along for a delightful day of fun\, fashion and fundraising; we’re sure you’ll find some lovely new outfits for your own wardrobe too! All proceeds go to St. Michael’s Hospice Charity – We provide financial support and assistance to the Archangel Michael Pasykaf Hospice. We help them to enhance life when it is needed most.
URL:https://stmichaelshospicecharity.com/event/st-michaels-hospice-charity-fashion-show-2025/
LOCATION:Peggy’s Secret Garden\, V9JH+XWW\, Peyia\, Paphos\, 8560\, Cyprus
CATEGORIES:Social Events – Fundraising
ATTACH;FMTTYPE=image/png:https://stmichaelshospicecharity.com/wp-content/uploads/2025/03/Peggys-Fashion-Show-St-Michaels-Hospice-Charity-2025.png
END:VEVENT
BEGIN:VEVENT
DTSTART;TZID=UTC:20250503T160000
DTEND;TZID=UTC:20250503T235900
DTSTAMP:20260425T131929
CREATED:20250305T101026Z
LAST-MODIFIED:20250403T204124Z
UID:14661-1746288000-1746316740@stmichaelshospicecharity.com
SUMMARY:St Michael's Hospice Charity - Race Night - 2025
DESCRIPTION:📢 Fundraising Event: St. Michael’s Hospice Charity Race Night! 🏇🏼 \n  \nDate: 3rd May 2025\nEvent: Race Night – 8 Horse Races Tote\nTime: 4pm (first race at 4.30pm)\nVenue: Hunters Bar\, Tremithousa\nPrice: €19 per person (includes food\, menu available) \nGet ready for an exhilarating evening at our Race Night\, featuring 8 thrilling horse races at Hunters Bar\, Tremithousa. Enjoy delicious food while cheering on your favorite horses\, all in support of St Michael’s Hospice Charity. \nDon’t miss out on this exciting event for a great cause. Helping the St Michael’s Hospice to enhance life when it is needed most – Book your tickets now! \nAll profit goes to St. Michael’s Hospice Charity – We provide financial support and assistance to the Archangel Michael Pasykaf Hospice. We help them to enhance life when it is needed most. \nContact our Events Manager Robin for details / tickets: \n📧Email: events@smhc.email\n☎️Phone: 99258479
URL:https://stmichaelshospicecharity.com/event/st-michaels-hospice-charity-race-night-2025/
LOCATION:Hunter’s Bar\, Tremithousa\, RC8W+J7X\, Σοκρατι Χατζιαντονιου δρόμος\, Tremithousa 8270\, Paphos\, 8270\, Cyprus
CATEGORIES:Social Events – Fundraising
ATTACH;FMTTYPE=image/png:https://stmichaelshospicecharity.com/wp-content/uploads/2025/03/Race-night-St-Michaels-hospice-charity-2025.png
END:VEVENT
BEGIN:VEVENT
DTSTART;TZID=UTC:20250510T110000
DTEND;TZID=UTC:20250510T235900
DTSTAMP:20260425T131929
CREATED:20250305T102419Z
LAST-MODIFIED:20250403T204201Z
UID:14669-1746874800-1746921540@stmichaelshospicecharity.com
SUMMARY:St Michael's Hospice Charity - Boules Tournament - May 2025
DESCRIPTION:📢 Announcement: Boules Tournament for St. Michael’s Hospice Charity! 🏆 \nDetails at a Glance: \n\nDate: 10th May 2025\nEvent: Boules Competition – Pairs Competition (Round Robin and Knockout Plate)\nTime: Tournament start time 11am\nEntry: €22 per person\nVenue: Tala Boules Club (Hazeli Bar)\n\nEntrance Fee: includes Souvlaki Lunch.\nSpectator Fee including lunch: €17 per person \nJoin us for a fun-filled day at the Tala Boules Club for our Boules Competition. Participate in the pairs competition with round robin and knockout plate formats\, or come as a spectator and enjoy delicious souvlaki\, all in support of St Michael’s Hospice Charity. \n  \nAll funds raised at the boules tournament goes to a great cause – St. Michael’s Hospice Charity – We provide financial support and assistance to the Archangel Michael Pasykaf Hospice. We help them to enhance life when it is needed most. \nCome along for a day of FUNdraising and friendly competition – Book your tickets Now!🏆 \nContact Robin: +357 99258479 \nE-mail: Robin Events Manager  events@smhc.email
URL:https://stmichaelshospicecharity.com/event/st-michaels-hospice-charity-boules-tournament-may-2025/
LOCATION:Tala Boules Club – Hazeli\, Leoforos Griva Digeni 8\, Tala 8577\, Paphos\, 8577\, Cyprus
CATEGORIES:Sporting Events – Fundraising
ATTACH;FMTTYPE=image/jpeg:https://stmichaelshospicecharity.com/wp-content/uploads/2024/08/Boules-Tournament-2nd-November-2024-St-Michaels-Hospice-Charity-Fundraiser.-Cyprus.jpg
END:VEVENT
BEGIN:VEVENT
DTSTART;TZID=UTC:20250510T160000
DTEND;TZID=UTC:20250510T210000
DTSTAMP:20260425T131929
CREATED:20250317T212803Z
LAST-MODIFIED:20250318T071551Z
UID:14688-1746892800-1746910800@stmichaelshospicecharity.com
SUMMARY:St Michael's Hospice Charity - Six-a-side Football Tournament - 2025
DESCRIPTION:📢 Announcement: FOOTBALL ROCKS – Six-a-side Football Tournament 2025! ⚽🏆 \nAHFC presents 2025’s Charity Football Tournament ‘Football Rocks’ at Alana Sport Centre\, Paphos\, Cyprus. Here are the details: \n\nDate: 10th May\, 2025\nTime: 4pm\nEntry: €200 per team (6 players – with max. 2 subs)\nBBQ ticket only: €20 per person\n\n \nWhether you’re a single player looking for a team to join\, or can sign up a full team\, get in touch to join our football tournament\, raising funds for a great cause – St. Michael’s Hospice Charity – We provide financial support and assistance to the Archangel Michael Pasykaf Hospice. We help them to enhance life when it is needed most. \nWe shoot\, we score! ⚽🏆 \n  \nContact Mark: 99 462 502\nE-mail: marketing@smhc.email \n  \n 
URL:https://stmichaelshospicecharity.com/event/six-a-side-football-tournament/
LOCATION:Alana Sports Centre\, Spyrou Kyprianou Ave\, Yeroskipou 8204\, Cyprus\, Yeroskipou\, 8204
CATEGORIES:Sporting Events – Fundraising
ATTACH;FMTTYPE=image/jpeg:https://stmichaelshospicecharity.com/wp-content/uploads/2025/03/Untitled.jpeg
END:VEVENT
BEGIN:VEVENT
DTSTART;TZID=UTC:20250525T130000
DTEND;TZID=UTC:20250525T235900
DTSTAMP:20260425T131929
CREATED:20250305T101737Z
LAST-MODIFIED:20250403T204301Z
UID:14667-1748178000-1748217540@stmichaelshospicecharity.com
SUMMARY:St Michael's Hospice Charity - Open Padel Tennis Tournament - 2025
DESCRIPTION:📢 Announcement: Aphrodite Hills Open Padel Tournament for St. Michael’s Hospice Charity! 🎾🌟 \nJoin us for an exhilarating day of Padel tennis at the stunning Aphrodite Hills in Paphos\, Cyprus. Here are the details: \n\nDate: 25th May\, 2025\nTime: Tournament start time 1pm\nEntry: €30 per person\n\nTournament Highlights: \n\nDoubles tournaments for players aged 18+\nCup and Plate Tournament – more chance to win!\nExciting matches\, camaraderie\, and competitive spirit.\nPrizes for the winners and runners-up.\nGuaranteed 3 matches per team.\nRefreshments available.\n\nWhether you’re a seasoned Padel player or a beginner\, this event promises fun and fundraising for a great cause – St. Michael’s Hospice Charity – We provide financial support and assistance to the Archangel Michael Pasykaf Hospice. We help them to enhance life when it is needed most. \nLet’s rally together on the courts! 🎾🏆 \nContact Robin: +357 99258479 \nE-mail: Robin Events Manager  events@smhc.email \n  \n 
URL:https://stmichaelshospicecharity.com/event/st-michaels-hospice-charity-open-padel-tennis-tournament-2025/
LOCATION:Aphrodite Hills Resort\, 3\, Aphrodite Avenue\, Kouklia\, Paphos\, 8509\, Cyprus
CATEGORIES:Sporting Events – Fundraising
ATTACH;FMTTYPE=image/jpeg:https://stmichaelshospicecharity.com/wp-content/uploads/2024/04/AH-Padel-photo.jpg
END:VEVENT
BEGIN:VEVENT
DTSTART;VALUE=DATE:20250611
DTEND;VALUE=DATE:20250612
DTSTAMP:20260425T131929
CREATED:20250305T105311Z
LAST-MODIFIED:20250305T105333Z
UID:14672-1749600000-1749686399@stmichaelshospicecharity.com
SUMMARY:St Michael's Hospice Charity - Annual Golf Tournament 2025 - Minthis Hills Golf Course
DESCRIPTION:📢 Announcement: Annual St. Michael’s Hospice Charity Golf Day 🏌️‍♂️⛳🏆 \nJoin us for a day of golf\, camaraderie\, and fundraising at the Minthis Hills Golf Course in Cyprus. Here are the details: \n\nDate: 11th June 2025\nTime: Tee-off time TBC.\nFormat: 4 Ball Stableford\nLocation: Minthis Hills Golf Course\nPrice:€40 per person (€15 per person for Minthis members)\n\nEvent Highlights: \n\nTeams of four will compete for the prestigious St. Michael’s Hospice Charity Cup on the stunning 18-hole course.\nParticipate in an exciting 18-hole Stableford competition.\nDelight in a delicious lunch after (details to follow).\nPrizes and raffle with fantastic items up for grabs.\n\nNot a golfer? No problem! Join us in the early afternoon for drinks\, lunch\, and the prize-giving ceremony. Let’s make a difference together! 🌟 \nRemember\, your participation supports a great cause – The St. Michael’s Hospice Charity. We provide financial support and assistance to the Archangel Michael Pasykaf Hospice. We help them to enhance life when it is needed most. \nSee you on the greens! ⛳🌿 \nFor Event information\, contact Robin on:\n☎️ Tel: +357 99 258 479\n📧 Email: events@smhc.email \n  \n \n  \n  \n  \n 
URL:https://stmichaelshospicecharity.com/event/st-michaels-hospice-charity-annual-golf-tournament-2025-minthis-hills-golf-course/
LOCATION:Minthis Hills Golf Course\, Minthis Street\, Tsada 8540\, Cyprus\, Paphos\, 8540\, Cyprus
CATEGORIES:Sporting Events – Fundraising
ATTACH;FMTTYPE=image/jpeg:https://stmichaelshospicecharity.com/wp-content/uploads/2025/03/Minthis-Hills-Golf-Tournament-2025-St-Michaels-Hospice-Charity.jpg
END:VEVENT
BEGIN:VEVENT
DTSTART;TZID=UTC:20250620T193000
DTEND;TZID=UTC:20250620T235900
DTSTAMP:20260425T131929
CREATED:20250403T203740Z
LAST-MODIFIED:20250403T203740Z
UID:14697-1750447800-1750463940@stmichaelshospicecharity.com
SUMMARY:St Michael's Hospice Charity - June Race Night - 2025
DESCRIPTION:📢 Fundraising Event: St. Michael’s Hospice Charity June Race Night! 🏇🏼 \n  \nDate: 20th June 2025\nEvent: Race Night – 8 Horse Races Tote\nVenue: Monara Live Sports Bar Paphos\nPrice: €19 per person (includes buffet) \nOur second exciting Race Night of the year; come along\, place your bets and enjoy a night with the horses – Don’t miss out on this exciting event for a great cause. Helping the St Michael’s Hospice to enhance life when it is needed most – Book your tickets now! \n \nAll profit goes to St. Michael’s Hospice Charity – We provide financial support and assistance to the Archangel Michael Pasykaf Hospice. We help them to enhance life when it is needed most. \nContact our Events Manager Robin for details / tickets (or book direct at Monara): \n📧Email: events@smhc.email\n☎️Phone: 99258479
URL:https://stmichaelshospicecharity.com/event/st-michaels-hospice-charity-june-race-night-2025-2/
CATEGORIES:Social Events – Fundraising
ATTACH;FMTTYPE=image/png:https://stmichaelshospicecharity.com/wp-content/uploads/2025/03/Race-night-St-Michaels-hospice-charity-2025.png
END:VEVENT
BEGIN:VEVENT
DTSTART;TZID=UTC:20260307T070000
DTEND;TZID=UTC:20260308T070000
DTSTAMP:20260425T131929
CREATED:20251027T140400Z
LAST-MODIFIED:20251113T114815Z
UID:14779-1772866800-1772953200@stmichaelshospicecharity.com
SUMMARY:St Michael's Hospice Charity - TUI Cyprus Marathon - 2026
DESCRIPTION:Join Us for the TUI Cyprus Marathon – Raise Funds for St. Michael’s Hospice Charity \nWe invite you to raise funds for the St Michael’s Hospice Charity\, by signing up to your chosen challenge at the TUI Cyprus Marathon – Marathon / Half Marathon / 10km / 5km (at no additional fee to the normal entry fee) and either walk or run to raise sponsorship money as part of the St Michael’s Hospice Charity Team – individually entered\, but collectively raising funds for SHMC. \nREGISTER NOW \nThe TUI Cyprus Marathon\, taking place on 7th & 8th March 2026\, is more than just a race event —it’s an opportunity to make a meaningful difference. Whether you’re a seasoned runner or a first-time participant\, or looking to walk your way to the finish line\, your involvement supports an incredible cause: St. Michael’s Hospice Charity. \n \nEvent Schedule: \nSaturday\, 7th of March: 16:00: 5km Sunset Run/Walk (Pafos Castle) \nSunday\, 8th of March:  \n07:00: Marathon (Aphrodite’s Rock)\n08:00: Half-Marathon (Pafos Castle)\n08:20: 10km Road Race (Pafos Castle) \nSee the course maps at the bottom of the page \n  \nEvent Entry Fees: \nFor people under 50:\n• Marathon: €55\n• Half-Marathon: €45\n• 10km: €30\n• 5km: €15* \nFor people aged 50:\n• Marathon: €50\n• Half-Marathon: €40\n• 10km: €25\n• 5km: €15* \n* The official event T-shirt is included in all race packages except the 5km. \n>>REGISTER AS PART OF THE ST MICHAEL’S HOSPICE CHARITY TEAM NOW \n  \nWhat’s Included in the Entry Fee? \nGoodie Bags containing: \n\nTechnical Running T-shirt by RONHILL\nRace Number\, Micro-Chip Timing and Pins\nDraw-string bag and luggage label\nIce Power Gel Sachets\nPresents and Goodies from the event sponsors\n\nOn the Course Support: Fluid stations (water electrolytes and sponges)\, toilet facilities\, medical\, ice power and ambulance support. \nAt the finish \n\nMedal of participation for all finishers\nTrophies for Men’s and Women’s age group winners (Award Ceremony)\nElectronic Certificate of Participation\nWater\, electrolytes and fruit\nPost-race physiotherapy care/advice by Ice Power\nBag storage service from DHL (drop-off at the start)\nResults service and race video published on the website.\nPhotographs will be uploaded to the website within 48 hours after the event completion\nPint of Beer (token will be provided beforehand)\n\n  \nHow to Fundraise: \nDownload our printable SPONSOR FORM and raise funds the good\, old-fashioned way. \nCreate your GoGetFunding page and start raising funds online. \nGood luck! \n  \nWhy Participate? \nThis iconic marathon is not only one of Cyprus’ most celebrated sporting events\, but it also plays a crucial role in supporting St. Michael’s Hospice Charity\, a charity that provides funds for the Archangel Michael Pasykaf Hospice in Paphos. \nFounded in 2015\, The Archangel Michael Hospice (now known as the Archangel Michael Pasykaf Hospice) is a purpose built hospice that offers a full range of support services for people diagnosed with a terminal illness. By taking part\, you are directly contributing to their mission of delivering high-quality palliative care and ensuring dignity\, comfort\, and support when they need it most. \nHow Your Fundraising Helps \nEvery penny raised goes towards ensuring that St. Michael’s Hospice can continue to offer their vital services\, free of charge\, to those in need. Your fundraising efforts will help: \n• Provide expert care for patients in the hospice and at home.\n• Fund essential medical equipment\, therapies\, and services.\n• Support families with counseling and bereavement services.\n• Ensure that no one facing a life-limiting illness has to endure their journey alone. \nThe Impact You Can Make \nRunning for St. Michael’s Hospice is not only a great way to challenge yourself physically\, but it’s also an opportunity to make a lasting impact on the lives of many. Every stride you take brings comfort and care to those who need it most. Plus\, it’s a powerful way to raise awareness about the importance of palliative care in the community. \nBenefits of Running/Walking for Charity \n• Personal Satisfaction: Knowing that your efforts are helping others will make crossing the finish line even more rewarding. \n• Incentives and Support: As a charity runner\, you’ll receive personalized support from the St. Michael’s Hospice team\, including fundraising tips\, a dedicated race day cheer squad\, and more! \n• Community Impact: Be part of a larger movement that brings people together to support a vital cause and create lasting change in the community. \nBy registering today\, you’ll not only be part of an unforgettable race but also a catalyst for positive change in the lives of those who rely on St. Michael’s Hospice Charity. \nWe look forward to seeing you at the starting line and celebrating your incredible efforts to make a difference! \n  \nReady to Run? \nREGISTER NOW\, fundraise for a cause that matters\, and make your miles count! \n  \n  \nCourse Maps: \nMARATHON: \n \n  \nHALF-MARATHON: \n \n  \n10KM ROAD RACE: \n \n  \n5KM FUN RUN/WALK: \n \n  \n  \nLearn More About St. Michael’s Hospice Charity \nFor more information contact Robin\, Events Manager on: +357 99 258 479 | E-mail: events@smhc.email
URL:https://stmichaelshospicecharity.com/event/st-michaels-hospice-charity-tui-cyprus-marathon-2026/
LOCATION:Paphos\, Cyprus
CATEGORIES:Sporting Events – Fundraising
ATTACH;FMTTYPE=image/jpeg:https://stmichaelshospicecharity.com/wp-content/uploads/2024/05/St-Michaels-Hospice-Charity-fundraising-donations-online1.jpg
END:VEVENT
BEGIN:VEVENT
DTSTART;TZID=UTC:20260509T160000
DTEND;TZID=UTC:20260509T210000
DTSTAMP:20260425T131929
CREATED:20260324T104320Z
LAST-MODIFIED:20260324T105020Z
UID:15057-1778342400-1778360400@stmichaelshospicecharity.com
SUMMARY:St Michael's Hospice Charity - Six-a-side Football Tournament - 2026
DESCRIPTION:📢 Announcement: FOOTBALL ROCKS – Six-a-side Football Tournament 2026! ⚽🏆 \nAHFC presents 2026’s Charity Football Tournament ‘Football Rocks’ at Alana Sport Centre\, Paphos\, Cyprus. Here are the details: \n\nDate: 9th May\, 2026\nTime: 4pm\nEntry: €200 per team (6 players – with max. 2 subs)\nBBQ ticket only: €20 per person\n\n \nWhether you’re a single player looking for a team to join\, or can sign up a full team\, get in touch to join our football tournament\, raising funds for a great cause – St. Michael’s Hospice Charity – We provide financial support and assistance to the Archangel Michael Pasykaf Hospice. We help them to enhance life when it is needed most. \nWe shoot\, we score! ⚽🏆 \n  \nContact Mark: 99 462 502\nE-mail: marketing@smhc.email \n  \n 
URL:https://stmichaelshospicecharity.com/event/st-michaels-hospice-charity-six-a-side-football-tournament-2026/
LOCATION:Alana Sports Centre\, Spyrou Kyprianou Ave\, Yeroskipou 8204\, Cyprus\, Yeroskipou\, 8204
CATEGORIES:Sporting Events – Fundraising
ATTACH;FMTTYPE=image/png:https://stmichaelshospicecharity.com/wp-content/uploads/2026/03/Football-rocks-2026.png
END:VEVENT
BEGIN:VEVENT
DTSTART;VALUE=DATE:20260710
DTEND;VALUE=DATE:20260711
DTSTAMP:20260425T131929
CREATED:20260324T115816Z
LAST-MODIFIED:20260324T115851Z
UID:15065-1783641600-1783727999@stmichaelshospicecharity.com
SUMMARY:St Michael's Hospice Charity - Golf Rocks Charity Tournament 2026
DESCRIPTION:📢 Announcement: GOLF ROCKS Charity Tournament 2026 🏌️‍♂️⛳🎸🎶🏆 \nJoin us for a day of golf\, camaraderie\, live music and fundraising in aid of St Michael’s Hospice Charity at the Elea Estate Golf Course in Cyprus. Here are the details: \n\nDate: 10th July 2026\nTime: Tee-off time TBC.\nFormat: 4 Ball Stableford\nLocation: Elea Estate Golf Course\nPrice: €50 per person / €15 per person for Elea Estate Members / €40 for evening tickets\n\n \nEvent Highlights: \n\nParticipate in an exciting 18-hole Stableford competition\nLive Music from Too Hot For Red\nPresentation Dinner\nPrizes and raffle with fantastic items up for grabs\n\nNot a golfer? No problem! Join us in the evening for drinks\, dinner\, live music and the prize-giving ceremony. Let’s make a difference together! 🌟 \nRemember\, your participation supports a great cause – The St. Michael’s Hospice Charity. We provide financial support and assistance to the Archangel Michael Pasykaf Hospice. We help them to enhance life when it is needed most. \nSee you on the greens! ⛳🌿 \nFor Event information\, contact Robin on:\n☎️ Tel: +357 99 258 479\n📧 Email: events@smhc.email \n  \n \n  \n  \n  \n 
URL:https://stmichaelshospicecharity.com/event/st-michaels-hospice-charity-golf-rocks-charity-tournament-2026/
LOCATION:Elea Estate Golf Course\, Cyprus
CATEGORIES:Sporting Events – Fundraising
ATTACH;FMTTYPE=image/jpeg:https://stmichaelshospicecharity.com/wp-content/uploads/2026/03/Elea-Estate-Golf-image-Aphroditerentals.com-8509-Magazine.jpg
END:VEVENT
END:VCALENDAR