BEGIN:VCALENDAR
VERSION:2.0
PRODID:-//St Michael's Hospice Charity - ECPv6.15.20//NONSGML v1.0//EN
CALSCALE:GREGORIAN
METHOD:PUBLISH
X-WR-CALNAME:St Michael's Hospice Charity
X-ORIGINAL-URL:https://stmichaelshospicecharity.com
X-WR-CALDESC:Events for St Michael's Hospice Charity
REFRESH-INTERVAL;VALUE=DURATION:PT1H
X-Robots-Tag:noindex
X-PUBLISHED-TTL:PT1H
BEGIN:VTIMEZONE
TZID:UTC
BEGIN:STANDARD
TZOFFSETFROM:+0000
TZOFFSETTO:+0000
TZNAME:UTC
DTSTART:20230101T000000
END:STANDARD
END:VTIMEZONE
BEGIN:VEVENT
DTSTART;TZID=UTC:20240322T190000
DTEND;TZID=UTC:20240322T233000
DTSTAMP:20260421T014503
CREATED:20240618T102037Z
LAST-MODIFIED:20240618T102037Z
UID:13853-1711134000-1711150200@stmichaelshospicecharity.com
SUMMARY:St. Michael’s Hospice Charity - Las Vegas Night
DESCRIPTION:📢🎉🎰🎲 Las Vegas Night Recap: High Stakes Glamour!  \n“Oh\, What a Night!” – a chorus that echoes through the glittering streets of Las Vegas. Your Las Vegas Theme Night at the Aquamare Hotel on Friday\, March 22nd was a dazzling affair\, and all it took was €47.50 to step into the world of high stakes and glamour.\nThe turnout was nothing short of spectacular\, with guests reveling in the thrill of Roulette and Blackjack. While the games were all in good fun\, fate smiled upon Alan Pugh (AJ)\, who secured a luxurious three-night stay in a villa at Aphrodite Hills\, generously donated by our generous supporters Aphroditerentals.com. \nBut let’s not forget the culinary delights! The buffet spread was a feast for the senses\, and attendees couldn’t help but sing praises about the quality. As glasses clinked and laughter filled the air\, spirits flowed—courtesy of our dear friends at Polycarpos Philippou. \nMichael Antoniou\, our crooner for the night\, serenaded the crowd with tunes immortalized by legends like Frank Sinatra and Dean Martin. Meanwhile\, Joe Modestou worked his magic at the gaming tables\, leaving guests in awe with his sleight of hand card tricks. And when the clock struck late\, DJ Tom Owen kept the dance floor alive with irresistible beats. \nA heartfelt shout-out to Rock FM and Viva FM for spreading the word and granting us precious airtime. And let’s not overlook the support from Pals Magazine\, Cyprus Living Magazine\, and The Paphos Post—your backing made all the difference. \nThe raffle was a roaring success\, raising over €1\,000! To all the generous souls who contributed\, our deepest gratitude. Altogether\, the night raised a staggering €7\,000 (before costs)\, including a €650 donation from St. Georges FC in Peyia. \nTo each and every one who stood by us\, thank you for your unwavering support. And guess what? The answer to whether we’ll host another event is a resounding YES. Keep an eye on our Facebook Page: St. Michael’s Hospice Charity\, or reach out to Robin at 99258479 for updates. The curtain may have fallen on this night\, but the encore awaits! 🎉🎰🎲 \nYour participation supported a great cause – The St. Michael’s Hospice Charity. We provide financial support and assistance to the Pasykaf Archangel Michael Hospice.\nWe help them to enhance life when it is needed most. \n 
URL:https://stmichaelshospicecharity.com/event/st-michaels-hospice-charity-las-vegas-night/
LOCATION:Aquamare Hotel\, Paphos\, Cyprus
CATEGORIES:Social Events – Fundraising
ATTACH;FMTTYPE=image/jpeg:https://stmichaelshospicecharity.com/wp-content/uploads/2024/06/St-Michaels-Hospice-Charity-Las-Vegas-Night-March-2024.jpg
END:VEVENT
END:VCALENDAR