BEGIN:VCALENDAR
VERSION:2.0
PRODID:-//St Michael's Hospice Charity - ECPv6.15.20//NONSGML v1.0//EN
CALSCALE:GREGORIAN
METHOD:PUBLISH
X-ORIGINAL-URL:https://stmichaelshospicecharity.com
X-WR-CALDESC:Events for St Michael's Hospice Charity
REFRESH-INTERVAL;VALUE=DURATION:PT1H
X-Robots-Tag:noindex
X-PUBLISHED-TTL:PT1H
BEGIN:VTIMEZONE
TZID:UTC
BEGIN:STANDARD
TZOFFSETFROM:+0000
TZOFFSETTO:+0000
TZNAME:UTC
DTSTART:20230101T000000
END:STANDARD
END:VTIMEZONE
BEGIN:VEVENT
DTSTART;VALUE=DATE:20241214
DTEND;VALUE=DATE:20241215
DTSTAMP:20260420T082119
CREATED:20241201T202125Z
LAST-MODIFIED:20241201T202740Z
UID:14541-1734134400-1734220799@stmichaelshospicecharity.com
SUMMARY:St Michael's Hospice Charity - Christmas Party - 2024
DESCRIPTION:📢 Fundraising Event: St. Michael’s Hospice Charity Christmas Party! 🎄🎅🏼🕺🏼💃🏼🎶 \nIt’s party time again this December – the St Michael’s Hospice Charity Polemi Shop Christmas Party which will be held at the Olive Tree in Polemi with a hot and cold buffet\, a raffle and a disco until late! Come along and enjoy the festive fun\, whilst raising money for an amazing charity. Here are the details: \n\nDate: December 14th 2024\nTime: 7pm for 7.30pm\nCost: €20 per person (tickets available from the SMHC Polemi Shop)\nVenue: Olive Tree in Polemi\n\n  \nCome along for a delightful day of fun\, fashion and fundraising; we’re sure you’ll find some lovely new outfits for your own wardrobe too! All profit goes to St. Michael’s Hospice Charity – We provide financial support and assistance to the Archangel Michael Pasykaf Hospice. We help them to enhance life when it is needed most. \nContact The St Michael’s Hospice Charity Polemi Shop for details: SHOP CONTACT
URL:https://stmichaelshospicecharity.com/event/christmas-party-2024/
CATEGORIES:Social Events – Fundraising
ATTACH;FMTTYPE=image/jpeg:https://stmichaelshospicecharity.com/wp-content/uploads/2024/12/St-Michaels-Hospice-Charity-Christmas-party-2024-Cyprus.jpg
END:VEVENT
BEGIN:VEVENT
DTSTART;VALUE=DATE:20241225
DTEND;VALUE=DATE:20241226
DTSTAMP:20260420T082119
CREATED:20241201T214030Z
LAST-MODIFIED:20241204T085222Z
UID:14545-1735084800-1735171199@stmichaelshospicecharity.com
SUMMARY:St Michael's Hospice Charity - Christmas Gift Appeal - 2024
DESCRIPTION:📢 Christmas Appeal: Children’s Gifts 🎄🎁🎄 \nChristmas can be expensive\, and some parents find it a difficult time of year. If you are sorting your children’s toys before Christmas this year\, you could make another child’s Christmas more special by donating any unwanted toys\, boxed games or gifts to the Geroskipou Charity Shop to be regifted to families in need. Gifts needed for children of all ages\, including teenagers up to 16 years old. Full details: \n\nDrop off: Geroskipou Charity Shop\nDrop off Deadline: 18th December 2024\nFor More Info: Message 97 634 322 to arrange out of hours drop offs\, we can be open to suit you\n\n  \n“Christmas is the spirit of giving\, without the thought of getting” \nSt. Michael’s Hospice Charity provide financial support and assistance to the Archangel Michael Pasykaf Hospice. We help them to enhance life when it is needed most. \n 
URL:https://stmichaelshospicecharity.com/event/christmas-gift-appeal-2024/
CATEGORIES:Social Events – Fundraising
ATTACH;FMTTYPE=image/jpeg:https://stmichaelshospicecharity.com/wp-content/uploads/2024/12/SHMC-Christmas-toy-appeal-copy-2.jpeg
END:VEVENT
END:VCALENDAR