BEGIN:VCALENDAR
VERSION:2.0
PRODID:-//St Michael's Hospice Charity - ECPv6.15.20//NONSGML v1.0//EN
CALSCALE:GREGORIAN
METHOD:PUBLISH
X-WR-CALNAME:St Michael's Hospice Charity
X-ORIGINAL-URL:https://stmichaelshospicecharity.com
X-WR-CALDESC:Events for St Michael's Hospice Charity
REFRESH-INTERVAL;VALUE=DURATION:PT1H
X-Robots-Tag:noindex
X-PUBLISHED-TTL:PT1H
BEGIN:VTIMEZONE
TZID:UTC
BEGIN:STANDARD
TZOFFSETFROM:+0000
TZOFFSETTO:+0000
TZNAME:UTC
DTSTART:20240101T000000
END:STANDARD
END:VTIMEZONE
BEGIN:VEVENT
DTSTART;TZID=UTC:20250503T160000
DTEND;TZID=UTC:20250503T235900
DTSTAMP:20260419T235403
CREATED:20250305T101026Z
LAST-MODIFIED:20250403T204124Z
UID:14661-1746288000-1746316740@stmichaelshospicecharity.com
SUMMARY:St Michael's Hospice Charity - Race Night - 2025
DESCRIPTION:📢 Fundraising Event: St. Michael’s Hospice Charity Race Night! 🏇🏼 \n  \nDate: 3rd May 2025\nEvent: Race Night – 8 Horse Races Tote\nTime: 4pm (first race at 4.30pm)\nVenue: Hunters Bar\, Tremithousa\nPrice: €19 per person (includes food\, menu available) \nGet ready for an exhilarating evening at our Race Night\, featuring 8 thrilling horse races at Hunters Bar\, Tremithousa. Enjoy delicious food while cheering on your favorite horses\, all in support of St Michael’s Hospice Charity. \nDon’t miss out on this exciting event for a great cause. Helping the St Michael’s Hospice to enhance life when it is needed most – Book your tickets now! \nAll profit goes to St. Michael’s Hospice Charity – We provide financial support and assistance to the Archangel Michael Pasykaf Hospice. We help them to enhance life when it is needed most. \nContact our Events Manager Robin for details / tickets: \n📧Email: events@smhc.email\n☎️Phone: 99258479
URL:https://stmichaelshospicecharity.com/event/st-michaels-hospice-charity-race-night-2025/
LOCATION:Hunter’s Bar\, Tremithousa\, RC8W+J7X\, Σοκρατι Χατζιαντονιου δρόμος\, Tremithousa 8270\, Paphos\, 8270\, Cyprus
CATEGORIES:Social Events – Fundraising
ATTACH;FMTTYPE=image/png:https://stmichaelshospicecharity.com/wp-content/uploads/2025/03/Race-night-St-Michaels-hospice-charity-2025.png
END:VEVENT
BEGIN:VEVENT
DTSTART;TZID=UTC:20250510T110000
DTEND;TZID=UTC:20250510T235900
DTSTAMP:20260419T235403
CREATED:20250305T102419Z
LAST-MODIFIED:20250403T204201Z
UID:14669-1746874800-1746921540@stmichaelshospicecharity.com
SUMMARY:St Michael's Hospice Charity - Boules Tournament - May 2025
DESCRIPTION:📢 Announcement: Boules Tournament for St. Michael’s Hospice Charity! 🏆 \nDetails at a Glance: \n\nDate: 10th May 2025\nEvent: Boules Competition – Pairs Competition (Round Robin and Knockout Plate)\nTime: Tournament start time 11am\nEntry: €22 per person\nVenue: Tala Boules Club (Hazeli Bar)\n\nEntrance Fee: includes Souvlaki Lunch.\nSpectator Fee including lunch: €17 per person \nJoin us for a fun-filled day at the Tala Boules Club for our Boules Competition. Participate in the pairs competition with round robin and knockout plate formats\, or come as a spectator and enjoy delicious souvlaki\, all in support of St Michael’s Hospice Charity. \n  \nAll funds raised at the boules tournament goes to a great cause – St. Michael’s Hospice Charity – We provide financial support and assistance to the Archangel Michael Pasykaf Hospice. We help them to enhance life when it is needed most. \nCome along for a day of FUNdraising and friendly competition – Book your tickets Now!🏆 \nContact Robin: +357 99258479 \nE-mail: Robin Events Manager  events@smhc.email
URL:https://stmichaelshospicecharity.com/event/st-michaels-hospice-charity-boules-tournament-may-2025/
LOCATION:Tala Boules Club – Hazeli\, Leoforos Griva Digeni 8\, Tala 8577\, Paphos\, 8577\, Cyprus
CATEGORIES:Sporting Events – Fundraising
ATTACH;FMTTYPE=image/jpeg:https://stmichaelshospicecharity.com/wp-content/uploads/2024/08/Boules-Tournament-2nd-November-2024-St-Michaels-Hospice-Charity-Fundraiser.-Cyprus.jpg
END:VEVENT
BEGIN:VEVENT
DTSTART;TZID=UTC:20250510T160000
DTEND;TZID=UTC:20250510T210000
DTSTAMP:20260419T235403
CREATED:20250317T212803Z
LAST-MODIFIED:20250318T071551Z
UID:14688-1746892800-1746910800@stmichaelshospicecharity.com
SUMMARY:St Michael's Hospice Charity - Six-a-side Football Tournament - 2025
DESCRIPTION:📢 Announcement: FOOTBALL ROCKS – Six-a-side Football Tournament 2025! ⚽🏆 \nAHFC presents 2025’s Charity Football Tournament ‘Football Rocks’ at Alana Sport Centre\, Paphos\, Cyprus. Here are the details: \n\nDate: 10th May\, 2025\nTime: 4pm\nEntry: €200 per team (6 players – with max. 2 subs)\nBBQ ticket only: €20 per person\n\n \nWhether you’re a single player looking for a team to join\, or can sign up a full team\, get in touch to join our football tournament\, raising funds for a great cause – St. Michael’s Hospice Charity – We provide financial support and assistance to the Archangel Michael Pasykaf Hospice. We help them to enhance life when it is needed most. \nWe shoot\, we score! ⚽🏆 \n  \nContact Mark: 99 462 502\nE-mail: marketing@smhc.email \n  \n 
URL:https://stmichaelshospicecharity.com/event/six-a-side-football-tournament/
LOCATION:Alana Sports Centre\, Spyrou Kyprianou Ave\, Yeroskipou 8204\, Cyprus\, Yeroskipou\, 8204
CATEGORIES:Sporting Events – Fundraising
ATTACH;FMTTYPE=image/jpeg:https://stmichaelshospicecharity.com/wp-content/uploads/2025/03/Untitled.jpeg
END:VEVENT
BEGIN:VEVENT
DTSTART;TZID=UTC:20250525T130000
DTEND;TZID=UTC:20250525T235900
DTSTAMP:20260419T235403
CREATED:20250305T101737Z
LAST-MODIFIED:20250403T204301Z
UID:14667-1748178000-1748217540@stmichaelshospicecharity.com
SUMMARY:St Michael's Hospice Charity - Open Padel Tennis Tournament - 2025
DESCRIPTION:📢 Announcement: Aphrodite Hills Open Padel Tournament for St. Michael’s Hospice Charity! 🎾🌟 \nJoin us for an exhilarating day of Padel tennis at the stunning Aphrodite Hills in Paphos\, Cyprus. Here are the details: \n\nDate: 25th May\, 2025\nTime: Tournament start time 1pm\nEntry: €30 per person\n\nTournament Highlights: \n\nDoubles tournaments for players aged 18+\nCup and Plate Tournament – more chance to win!\nExciting matches\, camaraderie\, and competitive spirit.\nPrizes for the winners and runners-up.\nGuaranteed 3 matches per team.\nRefreshments available.\n\nWhether you’re a seasoned Padel player or a beginner\, this event promises fun and fundraising for a great cause – St. Michael’s Hospice Charity – We provide financial support and assistance to the Archangel Michael Pasykaf Hospice. We help them to enhance life when it is needed most. \nLet’s rally together on the courts! 🎾🏆 \nContact Robin: +357 99258479 \nE-mail: Robin Events Manager  events@smhc.email \n  \n 
URL:https://stmichaelshospicecharity.com/event/st-michaels-hospice-charity-open-padel-tennis-tournament-2025/
LOCATION:Aphrodite Hills Resort\, 3\, Aphrodite Avenue\, Kouklia\, Paphos\, 8509\, Cyprus
CATEGORIES:Sporting Events – Fundraising
ATTACH;FMTTYPE=image/jpeg:https://stmichaelshospicecharity.com/wp-content/uploads/2024/04/AH-Padel-photo.jpg
END:VEVENT
END:VCALENDAR