BEGIN:VCALENDAR
VERSION:2.0
PRODID:-//St Michael's Hospice Charity - ECPv6.15.20//NONSGML v1.0//EN
CALSCALE:GREGORIAN
METHOD:PUBLISH
X-ORIGINAL-URL:https://stmichaelshospicecharity.com
X-WR-CALDESC:Events for St Michael's Hospice Charity
REFRESH-INTERVAL;VALUE=DURATION:PT1H
X-Robots-Tag:noindex
X-PUBLISHED-TTL:PT1H
BEGIN:VTIMEZONE
TZID:UTC
BEGIN:STANDARD
TZOFFSETFROM:+0000
TZOFFSETTO:+0000
TZNAME:UTC
DTSTART:20250101T000000
END:STANDARD
END:VTIMEZONE
BEGIN:VEVENT
DTSTART;VALUE=DATE:20260710
DTEND;VALUE=DATE:20260711
DTSTAMP:20260422T115623
CREATED:20260324T115816Z
LAST-MODIFIED:20260324T115851Z
UID:15065-1783641600-1783727999@stmichaelshospicecharity.com
SUMMARY:St Michael's Hospice Charity - Golf Rocks Charity Tournament 2026
DESCRIPTION:📢 Announcement: GOLF ROCKS Charity Tournament 2026 🏌️‍♂️⛳🎸🎶🏆 \nJoin us for a day of golf\, camaraderie\, live music and fundraising in aid of St Michael’s Hospice Charity at the Elea Estate Golf Course in Cyprus. Here are the details: \n\nDate: 10th July 2026\nTime: Tee-off time TBC.\nFormat: 4 Ball Stableford\nLocation: Elea Estate Golf Course\nPrice: €50 per person / €15 per person for Elea Estate Members / €40 for evening tickets\n\n \nEvent Highlights: \n\nParticipate in an exciting 18-hole Stableford competition\nLive Music from Too Hot For Red\nPresentation Dinner\nPrizes and raffle with fantastic items up for grabs\n\nNot a golfer? No problem! Join us in the evening for drinks\, dinner\, live music and the prize-giving ceremony. Let’s make a difference together! 🌟 \nRemember\, your participation supports a great cause – The St. Michael’s Hospice Charity. We provide financial support and assistance to the Archangel Michael Pasykaf Hospice. We help them to enhance life when it is needed most. \nSee you on the greens! ⛳🌿 \nFor Event information\, contact Robin on:\n☎️ Tel: +357 99 258 479\n📧 Email: events@smhc.email \n  \n \n  \n  \n  \n 
URL:https://stmichaelshospicecharity.com/event/st-michaels-hospice-charity-golf-rocks-charity-tournament-2026/
LOCATION:Elea Estate Golf Course\, Cyprus
CATEGORIES:Sporting Events – Fundraising
ATTACH;FMTTYPE=image/jpeg:https://stmichaelshospicecharity.com/wp-content/uploads/2026/03/Elea-Estate-Golf-image-Aphroditerentals.com-8509-Magazine.jpg
END:VEVENT
END:VCALENDAR